BEGIN:VCALENDAR
VERSION:2.0
PRODID:-//Hrvatsko društvo za akupunkturu - ECPv6.15.20//NONSGML v1.0//EN
CALSCALE:GREGORIAN
METHOD:PUBLISH
X-WR-CALNAME:Hrvatsko društvo za akupunkturu
X-ORIGINAL-URL:https://akupunktura.hr
X-WR-CALDESC:Događaji za Hrvatsko društvo za akupunkturu
REFRESH-INTERVAL;VALUE=DURATION:PT1H
X-Robots-Tag:noindex
X-PUBLISHED-TTL:PT1H
BEGIN:VTIMEZONE
TZID:Europe/Zagreb
BEGIN:DAYLIGHT
TZOFFSETFROM:+0100
TZOFFSETTO:+0200
TZNAME:CEST
DTSTART:20250330T010000
END:DAYLIGHT
BEGIN:STANDARD
TZOFFSETFROM:+0200
TZOFFSETTO:+0100
TZNAME:CET
DTSTART:20251026T010000
END:STANDARD
BEGIN:DAYLIGHT
TZOFFSETFROM:+0100
TZOFFSETTO:+0200
TZNAME:CEST
DTSTART:20260329T010000
END:DAYLIGHT
BEGIN:STANDARD
TZOFFSETFROM:+0200
TZOFFSETTO:+0100
TZNAME:CET
DTSTART:20261025T010000
END:STANDARD
BEGIN:DAYLIGHT
TZOFFSETFROM:+0100
TZOFFSETTO:+0200
TZNAME:CEST
DTSTART:20270328T010000
END:DAYLIGHT
BEGIN:STANDARD
TZOFFSETFROM:+0200
TZOFFSETTO:+0100
TZNAME:CET
DTSTART:20271031T010000
END:STANDARD
END:VTIMEZONE
BEGIN:VEVENT
DTSTART;VALUE=DATE:20260418
DTEND;VALUE=DATE:20260420
DTSTAMP:20260420T101113
CREATED:20260211T100402Z
LAST-MODIFIED:20260211T113555Z
UID:3552-1776470400-1776643199@akupunktura.hr
SUMMARY:TEČAJ IZ AURIKULOAKUPUNKTURE I AURIKULOMEDICINE- MODUL 3
DESCRIPTION:Osnovne informacije o tečaju:  \nTečaj iz aurikuloakupunkture i aurikulomedicine Modul 3 \nPredavač: Rikkesif Godhtjaelp \nDatum održavanja: 18-19.4. 2026. \nMjesto održavanja: Školska Knjiga\, Masarykova 28 – 10000 Zagreb \nCijena: 375 € \nU cijenu su uključene 4 pauze za kavu \nJezik:  engleski\, bez prevoditelja \nTečaj je prijavljen Hrvatskoj liječničkoj komori radi bodovanja. \nBroj mjesta: 40 \nLiteratura: Raphael Nogier – Auriculotherapy (knjiga će biti dostupna na licu mjesta\, nije uključena u kotizaciju) \nPrijave na tečaj i informacije putem maila organizatora:   franko@wih.hr     ili na broj +385916051391 \nInformacije o  Rikkesif Godthjaelp : https://gmiinstitute.com/en/hvem-er-vi/rikke-godthjaelp/ \nTečaj je namijenjen liječnicima sa prethodnim znanjem akupunkture odnosno završenim tečajem iz osnova medicinske akupunkture te odslušanim modulom 1 i 2.  \nPolaznici uče kako boja\, svjetlost i frekvencija utječu na živčani sustav\, emocionalnu regulaciju i reakcije na bol. Ovaj modul otvara nove kliničke mogućnosti za liječenje dubljih slojeva disfunkcije.\nŠto ćete naučiti:\nPrincipi fotoemisije i fotorecepcije\nKako raditi s fotonskim frekvencijama (A–L) i odabrati pravu frekvenciju za različite neravnoteže\nTest bijelog svjetla i kako on vodi izbor liječenja\nKorištenje filtera i Nogierovog sustava boja\nStrategije liječenja emocionalnog preopterećenja\, PTSP-a\, hormonske disregulacije i kronične boli\nCrno-bijela fotonska tehnika i njezina klinička relevantnost\nPraktična obuka s profesionalnim alatima: Premio 40 i GL \nPridružite nam se!
URL:https://akupunktura.hr/event/tecaj-iz-aurikuloakupunkture-i-aurikulomedicine-modul-3/
LOCATION:Školska knjiga\, Masarykova 28\,Zagreb\, Masarykova 28\, Zagreb\, 10000\, Croatia (Local Name: Hrvatska)
CATEGORIES:Sva događanja
ORGANIZER;CN="Hrvatsko dru%C5%A1tvo za akupunkturu (HLZ)":MAILTO:info@akupunktura.hr
END:VEVENT
END:VCALENDAR