BEGIN:VCALENDAR
VERSION:2.0
PRODID:-//Hrvatsko društvo za akupunkturu - ECPv6.15.20//NONSGML v1.0//EN
CALSCALE:GREGORIAN
METHOD:PUBLISH
X-WR-CALNAME:Hrvatsko društvo za akupunkturu
X-ORIGINAL-URL:https://akupunktura.hr
X-WR-CALDESC:Događaji za Hrvatsko društvo za akupunkturu
REFRESH-INTERVAL;VALUE=DURATION:PT1H
X-Robots-Tag:noindex
X-PUBLISHED-TTL:PT1H
BEGIN:VTIMEZONE
TZID:Europe/Zagreb
BEGIN:DAYLIGHT
TZOFFSETFROM:+0100
TZOFFSETTO:+0200
TZNAME:CEST
DTSTART:20250330T010000
END:DAYLIGHT
BEGIN:STANDARD
TZOFFSETFROM:+0200
TZOFFSETTO:+0100
TZNAME:CET
DTSTART:20251026T010000
END:STANDARD
BEGIN:DAYLIGHT
TZOFFSETFROM:+0100
TZOFFSETTO:+0200
TZNAME:CEST
DTSTART:20260329T010000
END:DAYLIGHT
BEGIN:STANDARD
TZOFFSETFROM:+0200
TZOFFSETTO:+0100
TZNAME:CET
DTSTART:20261025T010000
END:STANDARD
BEGIN:DAYLIGHT
TZOFFSETFROM:+0100
TZOFFSETTO:+0200
TZNAME:CEST
DTSTART:20270328T010000
END:DAYLIGHT
BEGIN:STANDARD
TZOFFSETFROM:+0200
TZOFFSETTO:+0100
TZNAME:CET
DTSTART:20271031T010000
END:STANDARD
END:VTIMEZONE
BEGIN:VEVENT
DTSTART;VALUE=DATE:20260509
DTEND;VALUE=DATE:20260511
DTSTAMP:20260420T052011
CREATED:20260211T100123Z
LAST-MODIFIED:20260211T113505Z
UID:3550-1778284800-1778457599@akupunktura.hr
SUMMARY:TEČAJ IZ AURIKULOAKUPUNKTURE I AURIKULOMEDICINE- MODUL 2
DESCRIPTION:Osnovne informacije o tečaju:  \nTečaj iz aurikuloakupunkture i aurikulomedicine Modul 2 \nPredavač: Rikkesif Godhtjaelp \nDatum održavanja: 9.-10. 5. 2026. \nMjesto održavanja: Školska Knjiga\, Masarykova 28 – 10000 Zagreb \nCijena: 375 € \nU cijenu su uključene 4 pauze za kavu \nJezik:  engleski\, bez prevoditelja \nTečaj je prijavljen Hrvatskoj liječničkoj komori radi bodovanja. \nBroj mjesta: 40 \nLiteratura: Raphael Nogier – Auriculotherapy (knjiga će biti dostupna na licu mjesta\, nije uključena u kotizaciju) \nPrijave na tečaj i informacije putem maila organizatora:   franko@wih.hr     ili na broj +385916051391 \nInformacije o  Rikkesif Godthjaelp : https://gmiinstitute.com/en/hvem-er-vi/rikke-godthjaelp/ \nTečaj je namijenjen liječnicima sa prethodnim znanjem akupunkture odnosno završenim tečajem iz osnova medicinske akupunkture te odslušanim modulom 1.  \nModul obuhvaća slijedeće teme: \nUčinkovito i trajno upravljanje boli usmjereno na uzrok \nDubinsko razumijevanje položaja kralježnice u uhu \nLiječenje mišića i živaca u ovoj zoni kako bi se utjecalo na cijelo tijelo i ublažile razne fizičke boli \nPosturološki testovi kao odgovor tijela\, uz aurikuloterapiju koja nudi tretman \nPosturologija utječe na fizičko i psihičko ublažavanje boli \nTerapijske prepreke: Kako ožiljci i napetost čeljusti produbljuju bol\, stvaraju kroničnu bol i mentalnu neravnotežu. \nLokacija točaka i razumijevanje. \nDaljnji rad s Nogierovim pulsom/VAS-om. \nPridružite nam se!
URL:https://akupunktura.hr/event/tecaj-iz-aurikuloakupunkture-i-aurikulomedicine-modul-2/
LOCATION:Školska knjiga\, Masarykova 28\,Zagreb\, Masarykova 28\, Zagreb\, 10000\, Croatia (Local Name: Hrvatska)
CATEGORIES:Sva događanja
ORGANIZER;CN="Hrvatsko dru%C5%A1tvo za akupunkturu (HLZ)":MAILTO:info@akupunktura.hr
END:VEVENT
BEGIN:VEVENT
DTSTART;TZID=Europe/Zagreb:20260516T123000
DTEND;TZID=Europe/Zagreb:20260516T143000
DTSTAMP:20260420T052011
CREATED:20260211T093219Z
LAST-MODIFIED:20260211T113628Z
UID:3545-1778934600-1778941800@akupunktura.hr
SUMMARY:STRUČNO PREDAVANJE: ULOGA AKUPUNKTURE U LIJEČENJU ADHD-A
DESCRIPTION:Osnovne informacije: \nULOGA AKUPUNKTURE U LIJEČENJU ADHD-A \nPredavač: mr.sc. Krunoslav Reljanović\, dr.med. \nDatum održavanja: 16.5.2026. od 12:30 do 14.30h \nMjesto održavanja: Hotel Central\, Ul. Kneza Branimira 3 \nTečaj je prijavljen Hrvatskoj liječničkoj komori radi bodovanja. \nUlaz slobodan za članove Hrvatskog društva za akupunkturu \n  \nU suvremenoj kliničkoj praksi sve je zastupljeniji integrativni pristup liječenju bolesti kojem je cilj povećati učinkovitost liječenja i poboljšati kvalitetu života pacijenata s mnogim bolestima\, pa tako i s ADHD-om. \nU svom predavanju mr. sc. Krunoslav Reljanović\, dr. med.\, približit će temu liječenja ADHD-a kroz prizmu povezivanja zapadne medicine i akupunkture\, fokusirajući se na moguće mehanizme djelovanja i kliničke implikacije medicinske akupunkture u podršci ovim pacijentima. \nOvo predavanje zamišljeno je kao pilot\, odnosno pokazni primjer kako će izgledati naš nadolazeći Napredni tečaj medicinske akupunkture. Tečaj planiramo pokrenuti tijekom ove godine\, a predviđeno trajanje bilo bi jedna do dvije godine. Voditelj i predavač na tečaju je dr. Krunoslav Reljanović\, a osnovni pristup temelji se na integraciji zapadne medicine i akupunkture. \nViše detalja o samoj strukturi tečaja i temama koje ćemo obrađivati predstavit će vam sam dr. Reljanović upravo tijekom ovog predavanja. \nPozivamo vas da nam se pridružite i sve informacije saznate iz prve ruke!
URL:https://akupunktura.hr/event/strucno-predavanje-uloga-akupunkture-u-lijecenju-adhd-a/
LOCATION:Hotel Central\, Kneza Branimira 3\, Zagreb\, Ul. Kneza Branimira 3\, Zagreb\, Zagreb\, 10000\, Croatia (Local Name: Hrvatska)
CATEGORIES:Sva događanja
ORGANIZER;CN="Hrvatsko dru%C5%A1tvo za akupunkturu (HLZ)":MAILTO:info@akupunktura.hr
END:VEVENT
END:VCALENDAR