BEGIN:VCALENDAR
VERSION:2.0
PRODID:-//Hrvatsko društvo za akupunkturu - ECPv6.15.20//NONSGML v1.0//EN
CALSCALE:GREGORIAN
METHOD:PUBLISH
X-WR-CALNAME:Hrvatsko društvo za akupunkturu
X-ORIGINAL-URL:https://akupunktura.hr
X-WR-CALDESC:Događaji za Hrvatsko društvo za akupunkturu
REFRESH-INTERVAL;VALUE=DURATION:PT1H
X-Robots-Tag:noindex
X-PUBLISHED-TTL:PT1H
BEGIN:VTIMEZONE
TZID:Europe/Paris
BEGIN:DAYLIGHT
TZOFFSETFROM:+0100
TZOFFSETTO:+0200
TZNAME:CEST
DTSTART:20140330T010000
END:DAYLIGHT
BEGIN:STANDARD
TZOFFSETFROM:+0200
TZOFFSETTO:+0100
TZNAME:CET
DTSTART:20141026T010000
END:STANDARD
BEGIN:DAYLIGHT
TZOFFSETFROM:+0100
TZOFFSETTO:+0200
TZNAME:CEST
DTSTART:20150329T010000
END:DAYLIGHT
BEGIN:STANDARD
TZOFFSETFROM:+0200
TZOFFSETTO:+0100
TZNAME:CET
DTSTART:20151025T010000
END:STANDARD
BEGIN:DAYLIGHT
TZOFFSETFROM:+0100
TZOFFSETTO:+0200
TZNAME:CEST
DTSTART:20160327T010000
END:DAYLIGHT
BEGIN:STANDARD
TZOFFSETFROM:+0200
TZOFFSETTO:+0100
TZNAME:CET
DTSTART:20161030T010000
END:STANDARD
END:VTIMEZONE
BEGIN:VTIMEZONE
TZID:Europe/Zagreb
BEGIN:DAYLIGHT
TZOFFSETFROM:+0100
TZOFFSETTO:+0200
TZNAME:CEST
DTSTART:20130331T010000
END:DAYLIGHT
BEGIN:STANDARD
TZOFFSETFROM:+0200
TZOFFSETTO:+0100
TZNAME:CET
DTSTART:20131027T010000
END:STANDARD
BEGIN:DAYLIGHT
TZOFFSETFROM:+0100
TZOFFSETTO:+0200
TZNAME:CEST
DTSTART:20140330T010000
END:DAYLIGHT
BEGIN:STANDARD
TZOFFSETFROM:+0200
TZOFFSETTO:+0100
TZNAME:CET
DTSTART:20141026T010000
END:STANDARD
BEGIN:DAYLIGHT
TZOFFSETFROM:+0100
TZOFFSETTO:+0200
TZNAME:CEST
DTSTART:20150329T010000
END:DAYLIGHT
BEGIN:STANDARD
TZOFFSETFROM:+0200
TZOFFSETTO:+0100
TZNAME:CET
DTSTART:20151025T010000
END:STANDARD
BEGIN:DAYLIGHT
TZOFFSETFROM:+0100
TZOFFSETTO:+0200
TZNAME:CEST
DTSTART:20160327T010000
END:DAYLIGHT
BEGIN:STANDARD
TZOFFSETFROM:+0200
TZOFFSETTO:+0100
TZNAME:CET
DTSTART:20161030T010000
END:STANDARD
END:VTIMEZONE
BEGIN:VEVENT
DTSTART;TZID=Europe/Paris:20151018T130000
DTEND;TZID=Europe/Paris:20151018T140000
DTSTAMP:20260420T101219
CREATED:20150912T140406Z
LAST-MODIFIED:20220804T090055Z
UID:1798-1445173200-1445176800@akupunktura.hr
SUMMARY:Moderna medicina – previše\, nepotrebno\, štetno
DESCRIPTION:Poštovane kolegice i kolege! \nPozivamo Vas na stručni sastanak i predavanje u organizaciji Hrvatskog društva za akupunkturu. Predavanje će govoriti o dva važna fenomena suvremene medicine koji su liječnicima slabo poznati. Prvi je predijagnosticiranje – proglašavanje bolesti kad ona realno ne postoji\, a drugi jatrogeneza – šteta za zdravlje pacijenata i društvena šteta koju uzrokuje medicina. Neobično je važno osvijestiti ove negativne pojave i o njima se informirati\, kako bismo poštedjeli pacijente nepotrebne patnje i djelovali na sustav zdravstvene zaštite u smjeru njegove veće efikasnosti i racionalnosti. \nPovjerenstvo za medicinsku izobrazbu liječnika HLK kategoriziralo je i vrednovalo stručni skup s 4 boda za pasivno sudjelovanje. \nRadujemo se Vašem dolasku\,\nLidija Gajski\, dr.med.
URL:https://akupunktura.hr/event/moderna-medicina-previse-nepotrebno-stetno/
LOCATION:Palace Hotel\, Trg Josipa Jurja Strossmayera 10\, Zagreb\, 10000\, Hrvatska
CATEGORIES:Sva događanja
ATTACH;FMTTYPE=image/png:https://akupunktura.hr/wp-content/uploads/2015/09/Moderna-medicina.png
ORGANIZER;CN="Hrvatsko dru%C5%A1tvo za akupunkturu (HLZ)":MAILTO:info@akupunktura.hr
END:VEVENT
BEGIN:VEVENT
DTSTART;VALUE=DATE:20150508
DTEND;VALUE=DATE:20150511
DTSTAMP:20260420T101219
CREATED:20140717T090124Z
LAST-MODIFIED:20220804T090055Z
UID:1301-1431043200-1431302399@akupunktura.hr
SUMMARY:ICMART XVII World Congress on Medical Acupuncture
DESCRIPTION:Dear Colleagues\, \nI am very pleased to welcome you at the XVII ICMART Congress that will be held on May\, 08 – 10th\, 2015 in Bali Indonesia\, one of the fabulous leisure destination in the world. \nMany international distinguished speakers are invited to present topics that will give priceless contribution to the progress on medical acupuncture. We are very proud and very happy to see your dedication to participate in this congress and scientic meeting conducted in strategic approach acupuncture in medical science. Acupuncture in Medical Science has been recognized and has been used as a useful method to solve various health problem. Acupuncture develops rapidly among the medical sciences. \nFinally\, I sincerely hope the congress and scientic meeting will be successful and give advantages and enormous experiences about innovation in medical acupuncture and related technique for the participants. \nI warmly invite you to our congress in the beautifull God Island\, Bali Indonesia. \nWith warm regards\,\nSukarto\, MD\nCongress President
URL:https://akupunktura.hr/event/icmart-xvii-world-congress-on-medical-acupuncture/
LOCATION:Padma Resort Bali at Legian\, Jl. Padma No. 1\, Legian\, Bali\, 80361\, Indonesija
CATEGORIES:Sva događanja
ATTACH;FMTTYPE=image/jpeg:https://akupunktura.hr/wp-content/uploads/2014/07/ICMART-2015.jpg
ORGANIZER;CN="HIDAMI (Indonesian Association of Medical Acupuncture)":MAILTO:hidami.icmart2015@gmail.com
END:VEVENT
BEGIN:VEVENT
DTSTART;TZID=Europe/Zagreb:20150117T123000
DTEND;TZID=Europe/Zagreb:20150117T140000
DTSTAMP:20260420T101220
CREATED:20141009T085229Z
LAST-MODIFIED:20220804T090056Z
UID:1618-1421497800-1421503200@akupunktura.hr
SUMMARY:Lijekovi ili priča o obmani
DESCRIPTION:Poštovane kolegice i kolege! \nPozivamo Vas na stručni sastanak i predavanje u organizaciji Hrvatskog društva za akupunkturu. Predavanje će govoriti o skromnim dosezima modernih lijekova i o sustavu koji stvara lažnu predodžbu o njihovoj vrijednosti i korisnosti – od razine medicinske znanosti\, preko edukacije i medija\, do politike. \nPovjerenstvo za medicinsku izobrazbu liječnika HLK kategoriziralo je i vrednovalo stručni skup s 4 boda za pasivno sudjelovanje. \nRadujemo se Vašem dolasku\,\nLidija Gajski\, dr.med.
URL:https://akupunktura.hr/event/lijekovi-ili-prica-o-obmani/
LOCATION:Palace Hotel\, Trg Josipa Jurja Strossmayera 10\, Zagreb\, 10000\, Hrvatska
CATEGORIES:Sva događanja
ATTACH;FMTTYPE=image/jpeg:https://akupunktura.hr/wp-content/uploads/2014/10/Lidija-Gajski.jpg
ORGANIZER;CN="Hrvatsko dru%C5%A1tvo za akupunkturu (HLZ)":MAILTO:info@akupunktura.hr
END:VEVENT
BEGIN:VEVENT
DTSTART;TZID=Europe/Zagreb:20141213T120000
DTEND;TZID=Europe/Zagreb:20141213T133000
DTSTAMP:20260420T101220
CREATED:20141122T150333Z
LAST-MODIFIED:20220804T090056Z
UID:1649-1418472000-1418477400@akupunktura.hr
SUMMARY:Patofiziologija i liječenje edema akupunkturom
DESCRIPTION:Poštovane kolegice i kolege! \nPozivamo Vas na stručni sastanak i predavanje u organizaciji Hrvatskog društva za akupunkturu. Predavanje će uključivati primjenu akupunkture u liječenju različitih vrsta edema. Razgovarati će se o etiologiji\, patofiziologiji\, diferencijalnoj dijagnozi te liječenju edema prema TCM. Ovo predavanje je svojevrstan uvod u napredni tečaj iz medicinske akupunkture koji planiramo za proljeće 2015. godine. \nPovjerenstvo za medicinsku izobrazbu liječnika HLK kategoriziralo je i vrednovalo stručni skup s 4 boda za pasivno sudjelovanje. \nRadujemo se Vašem dolasku\,\nmr.sc. Krunoslav Reljanović\, dr.med.
URL:https://akupunktura.hr/event/patofiziologija-i-lijecenje-edema-akupunkturom/
LOCATION:Palace Hotel\, Trg Josipa Jurja Strossmayera 10\, Zagreb\, 10000\, Hrvatska
CATEGORIES:Sva događanja
ATTACH;FMTTYPE=image/png:https://akupunktura.hr/wp-content/uploads/2014/11/edemi.png
ORGANIZER;CN="Hrvatsko dru%C5%A1tvo za akupunkturu (HLZ)":MAILTO:info@akupunktura.hr
END:VEVENT
BEGIN:VEVENT
DTSTART;TZID=Europe/Zagreb:20141108T123000
DTEND;TZID=Europe/Zagreb:20141108T140000
DTSTAMP:20260420T101220
CREATED:20141003T141323Z
LAST-MODIFIED:20220804T090056Z
UID:1613-1415449800-1415455200@akupunktura.hr
SUMMARY:Aurikuloakupunktura u liječenju akutnih i kroničnih bolova - neuroanatomski pristup
DESCRIPTION:Poštovane kolegice i kolege! \nPozivamo Vas na stručni sastanak i predavanje u organizaciji Hrvatskog društva za akupunkturu. Predavanje će uključivati primjenu aurikuloterapije za ischialgiu\, migrenu\, cluster i tenzijsku glavobolju\, postherpetičnu neuralgiju i neuralgije trigeminusa\, fantomsku bol te kancerogenu bol kod neoplazme dojki. \nPovjerenstvo za medicinsku izobrazbu liječnika HLK kategoriziralo je i vrednovalo stručni skup s 4 boda za pasivno sudjelovanje. \nRadujemo se Vašem dolasku\,\nmr.sc. Krunoslav Reljanović\, dr.med.
URL:https://akupunktura.hr/event/aurikuloakupunktura-u-lijecenju-akutnih-i-kronicnih-bolova-neuroanatomski-pristup/
LOCATION:Palace Hotel\, Trg Josipa Jurja Strossmayera 10\, Zagreb\, 10000\, Hrvatska
CATEGORIES:Sva događanja
ATTACH;FMTTYPE=image/png:https://akupunktura.hr/wp-content/uploads/2014/10/uho.png
ORGANIZER;CN="Hrvatsko dru%C5%A1tvo za akupunkturu (HLZ)":MAILTO:info@akupunktura.hr
END:VEVENT
END:VCALENDAR